BEGIN:VCALENDAR
VERSION:2.0
PRODID:-//Kailash Project - Live a Balanced Life - ECPv4.6.10.1//NONSGML v1.0//EN
CALSCALE:GREGORIAN
METHOD:PUBLISH
X-WR-CALNAME:Kailash Project - Live a Balanced Life
X-ORIGINAL-URL:http://kailashproject.org
X-WR-CALDESC:Events for Kailash Project - Live a Balanced Life
BEGIN:VEVENT
DTSTART;TZID=Asia/Makassar:20180313T110000
DTEND;TZID=Asia/Makassar:20180313T123000
DTSTAMP:20260424T010335
CREATED:20180209T025357Z
LAST-MODIFIED:20180209T025357Z
UID:1133-1520938800-1520944200@kailashproject.org
SUMMARY:Yin Yoga
DESCRIPTION:Maaf\, tidak tersedia dalam Bahasa \n
URL:http://kailashproject.org/id/event/yin-yoga-105/
LOCATION:PT. Yoga Barn\, Jalan Raya Pengosekan\, Ubud - Bali\, Indonesia - 80571\, Ubud\, Bali\, 80571\, Indonesia
CATEGORIES:Daily Classes Schedule
END:VEVENT
BEGIN:VEVENT
DTSTART;TZID=Asia/Makassar:20180313T170000
DTEND;TZID=Asia/Makassar:20180313T183000
DTSTAMP:20260424T010335
CREATED:20180209T025206Z
LAST-MODIFIED:20180209T025206Z
UID:1127-1520960400-1520965800@kailashproject.org
SUMMARY:Yin Yoga
DESCRIPTION:Maaf\, tidak tersedia dalam Bahasa \n
URL:http://kailashproject.org/id/event/yin-yoga-102/
LOCATION:PT. Yoga Barn\, Jalan Raya Pengosekan\, Ubud - Bali\, Indonesia - 80571\, Ubud\, Bali\, 80571\, Indonesia
CATEGORIES:Daily Classes Schedule
END:VEVENT
END:VCALENDAR