BEGIN:VCALENDAR
VERSION:2.0
PRODID:-//Kailash Project - Live a Balanced Life - ECPv4.6.10.1//NONSGML v1.0//EN
CALSCALE:GREGORIAN
METHOD:PUBLISH
X-WR-CALNAME:Kailash Project - Live a Balanced Life
X-ORIGINAL-URL:http://kailashproject.org
X-WR-CALDESC:Events for Kailash Project - Live a Balanced Life
BEGIN:VEVENT
DTSTART;TZID=Asia/Makassar:20180309T113000
DTEND;TZID=Asia/Makassar:20180309T123000
DTSTAMP:20260424T010904
CREATED:20180209T025843Z
LAST-MODIFIED:20180209T025843Z
UID:1145-1520595000-1520598600@kailashproject.org
SUMMARY:Gentle Yoga 
DESCRIPTION:Maaf\, tidak tersedia dalam Bahasa \n
URL:http://kailashproject.org/id/event/gentle-yoga-107/
LOCATION:PT. Yoga Barn\, Jalan Raya Pengosekan\, Ubud - Bali\, Indonesia - 80571\, Ubud\, Bali\, 80571\, Indonesia
CATEGORIES:Daily Classes Schedule
END:VEVENT
BEGIN:VEVENT
DTSTART;TZID=Asia/Makassar:20180309T140000
DTEND;TZID=Asia/Makassar:20180309T153000
DTSTAMP:20260424T010904
CREATED:20180209T030154Z
LAST-MODIFIED:20180209T030154Z
UID:1155-1520604000-1520609400@kailashproject.org
SUMMARY:Introduction to Yoga 
DESCRIPTION:Maaf\, tidak tersedia dalam Bahasa \n
URL:http://kailashproject.org/id/event/introduction-to-yoga-53/
LOCATION:PT. Yoga Barn\, Jalan Raya Pengosekan\, Ubud - Bali\, Indonesia - 80571\, Ubud\, Bali\, 80571\, Indonesia
CATEGORIES:Daily Classes Schedule
END:VEVENT
END:VCALENDAR