BEGIN:VCALENDAR
VERSION:2.0
PRODID:-//Kailash Project - Live a Balanced Life - ECPv4.6.10.1//NONSGML v1.0//EN
CALSCALE:GREGORIAN
METHOD:PUBLISH
X-WR-CALNAME:Kailash Project - Live a Balanced Life
X-ORIGINAL-URL:http://kailashproject.org
X-WR-CALDESC:Events for Kailash Project - Live a Balanced Life
BEGIN:VEVENT
DTSTART;TZID=Asia/Makassar:20180216T113000
DTEND;TZID=Asia/Makassar:20180216T123000
DTSTAMP:20260424T023037
CREATED:20180128T090408Z
LAST-MODIFIED:20180128T090408Z
UID:1082-1518780600-1518784200@kailashproject.org
SUMMARY:Gentle Yoga 
DESCRIPTION:Maaf\, tidak tersedia dalam Bahasa \n
URL:http://kailashproject.org/id/event/gentle-yoga-97/
LOCATION:PT. Yoga Barn\, Jalan Raya Pengosekan\, Ubud - Bali\, Indonesia - 80571\, Ubud\, Bali\, 80571\, Indonesia
CATEGORIES:Daily Classes Schedule
END:VEVENT
BEGIN:VEVENT
DTSTART;TZID=Asia/Makassar:20180216T140000
DTEND;TZID=Asia/Makassar:20180216T153000
DTSTAMP:20260424T023037
CREATED:20180128T090815Z
LAST-MODIFIED:20180128T090815Z
UID:1090-1518789600-1518795000@kailashproject.org
SUMMARY:Introduction to Yoga 
DESCRIPTION:Maaf\, tidak tersedia dalam Bahasa \n
URL:http://kailashproject.org/id/event/introduction-to-yoga-47/
LOCATION:PT. Yoga Barn\, Jalan Raya Pengosekan\, Ubud - Bali\, Indonesia - 80571\, Ubud\, Bali\, 80571\, Indonesia
CATEGORIES:Daily Classes Schedule
END:VEVENT
END:VCALENDAR