BEGIN:VCALENDAR
VERSION:2.0
PRODID:-//Kailash Project - Live a Balanced Life - ECPv4.6.10.1//NONSGML v1.0//EN
CALSCALE:GREGORIAN
METHOD:PUBLISH
X-WR-CALNAME:Kailash Project - Live a Balanced Life
X-ORIGINAL-URL:http://kailashproject.org
X-WR-CALDESC:Events for Kailash Project - Live a Balanced Life
BEGIN:VEVENT
DTSTART;TZID=Asia/Makassar:20180130T070000
DTEND;TZID=Asia/Makassar:20180130T083000
DTSTAMP:20260424T022914
CREATED:20171227T063530Z
LAST-MODIFIED:20171227T063530Z
UID:979-1517295600-1517301000@kailashproject.org
SUMMARY:Morning Flow 
DESCRIPTION:Maaf\, tidak tersedia dalam Bahasa \n
URL:http://kailashproject.org/id/event/morning-flow-18/
LOCATION:PT. Yoga Barn\, Jalan Raya Pengosekan\, Ubud - Bali\, Indonesia - 80571\, Ubud\, Bali\, 80571\, Indonesia
CATEGORIES:Daily Classes Schedule
END:VEVENT
BEGIN:VEVENT
DTSTART;TZID=Asia/Makassar:20180130T080000
DTEND;TZID=Asia/Makassar:20180130T093000
DTSTAMP:20260424T022914
CREATED:20171227T071122Z
LAST-MODIFIED:20171227T071122Z
UID:1041-1517299200-1517304600@kailashproject.org
SUMMARY:Vinyasa Slow 
DESCRIPTION:Maaf\, tidak tersedia dalam Bahasa \n
URL:http://kailashproject.org/id/event/vinyasa-slow-51/
LOCATION:Seremban\, Malaysia
CATEGORIES:Daily Classes Schedule
END:VEVENT
BEGIN:VEVENT
DTSTART;TZID=Asia/Makassar:20180130T170000
DTEND;TZID=Asia/Makassar:20180130T183000
DTSTAMP:20260424T022914
CREATED:20171227T064306Z
LAST-MODIFIED:20171227T064306Z
UID:993-1517331600-1517337000@kailashproject.org
SUMMARY:Yin Yoga
DESCRIPTION:Maaf\, tidak tersedia dalam Bahasa \n
URL:http://kailashproject.org/id/event/yin-yoga-81/
LOCATION:PT. Yoga Barn\, Jalan Raya Pengosekan\, Ubud - Bali\, Indonesia - 80571\, Ubud\, Bali\, 80571\, Indonesia
CATEGORIES:Daily Classes Schedule
END:VEVENT
END:VCALENDAR