BEGIN:VCALENDAR
VERSION:2.0
PRODID:-//Kailash Project - Live a Balanced Life - ECPv4.6.10.1//NONSGML v1.0//EN
CALSCALE:GREGORIAN
METHOD:PUBLISH
X-WR-CALNAME:Kailash Project - Live a Balanced Life
X-ORIGINAL-URL:http://kailashproject.org
X-WR-CALDESC:Events for Kailash Project - Live a Balanced Life
BEGIN:VEVENT
DTSTART;TZID=Asia/Makassar:20180113T080000
DTEND;TZID=Asia/Makassar:20180113T093000
DTSTAMP:20260424T040046
CREATED:20171227T065643Z
LAST-MODIFIED:20171227T065643Z
UID:1023-1515830400-1515835800@kailashproject.org
SUMMARY:Vinyasa Slow 
DESCRIPTION:Maaf\, tidak tersedia dalam Bahasa \n
URL:http://kailashproject.org/id/event/vinyasa-slow-48/
LOCATION:Seremban\, Malaysia
CATEGORIES:Daily Classes Schedule
END:VEVENT
BEGIN:VEVENT
DTSTART;TZID=Asia/Makassar:20180113T110000
DTEND;TZID=Asia/Makassar:20180113T123000
DTSTAMP:20260424T040046
CREATED:20171227T070207Z
LAST-MODIFIED:20171227T070347Z
UID:1029-1515841200-1515846600@kailashproject.org
SUMMARY:Yin Yoga
DESCRIPTION:Maaf\, tidak tersedia dalam Bahasa \n
URL:http://kailashproject.org/id/event/yin-yoga-87/
LOCATION:PT. Yoga Barn\, Jalan Raya Pengosekan\, Ubud - Bali\, Indonesia - 80571\, Ubud\, Bali\, 80571\, Indonesia
CATEGORIES:Daily Classes Schedule
END:VEVENT
END:VCALENDAR