BEGIN:VCALENDAR
VERSION:2.0
PRODID:-//Kailash Project - Live a Balanced Life - ECPv4.6.10.1//NONSGML v1.0//EN
CALSCALE:GREGORIAN
METHOD:PUBLISH
X-WR-CALNAME:Kailash Project - Live a Balanced Life
X-ORIGINAL-URL:http://kailashproject.org
X-WR-CALDESC:Events for Kailash Project - Live a Balanced Life
BEGIN:VEVENT
DTSTART;TZID=Asia/Makassar:20171225T113000
DTEND;TZID=Asia/Makassar:20171225T123000
DTSTAMP:20260424T051849
CREATED:20171117T033231Z
LAST-MODIFIED:20171117T033231Z
UID:899-1514201400-1514205000@kailashproject.org
SUMMARY:Gentle Yoga 
DESCRIPTION:Maaf\, tidak tersedia dalam Bahasa \n
URL:http://kailashproject.org/id/event/gentle-yoga-77/
LOCATION:PT. Yoga Barn\, Jalan Raya Pengosekan\, Ubud - Bali\, Indonesia - 80571\, Ubud\, Bali\, 80571\, Indonesia
CATEGORIES:Daily Classes Schedule
END:VEVENT
BEGIN:VEVENT
DTSTART;TZID=Asia/Makassar:20171225T170000
DTEND;TZID=Asia/Makassar:20171225T183000
DTSTAMP:20260424T051849
CREATED:20171117T033315Z
LAST-MODIFIED:20171117T033315Z
UID:902-1514221200-1514226600@kailashproject.org
SUMMARY:Vinyasa Flow 
DESCRIPTION:Maaf\, tidak tersedia dalam Bahasa \n
URL:http://kailashproject.org/id/event/vinyasa-flow-37/
LOCATION:PT. Yoga Barn\, Jalan Raya Pengosekan\, Ubud - Bali\, Indonesia - 80571\, Ubud\, Bali\, 80571\, Indonesia
CATEGORIES:Daily Classes Schedule
END:VEVENT
END:VCALENDAR