BEGIN:VCALENDAR
VERSION:2.0
PRODID:-//Kailash Project - Live a Balanced Life - ECPv4.6.10.1//NONSGML v1.0//EN
CALSCALE:GREGORIAN
METHOD:PUBLISH
X-WR-CALNAME:Kailash Project - Live a Balanced Life
X-ORIGINAL-URL:http://kailashproject.org
X-WR-CALDESC:Events for Kailash Project - Live a Balanced Life
BEGIN:VEVENT
DTSTART;TZID=Asia/Makassar:20170930T110000
DTEND;TZID=Asia/Makassar:20170930T123000
DTSTAMP:20260424T075614
CREATED:20170814T055528Z
LAST-MODIFIED:20170814T055528Z
UID:799-1506769200-1506774600@kailashproject.org
SUMMARY:Yin Yoga
DESCRIPTION:Maaf\, tidak tersedia dalam Bahasa \n
URL:http://kailashproject.org/id/event/yin-yoga-60/
LOCATION:PT. Yoga Barn\, Jalan Raya Pengosekan\, Ubud - Bali\, Indonesia - 80571\, Ubud\, Bali\, 80571\, Indonesia
CATEGORIES:Daily Classes Schedule
END:VEVENT
BEGIN:VEVENT
DTSTART;TZID=Asia/Makassar:20170930T190000
DTEND;TZID=Asia/Makassar:20170930T203000
DTSTAMP:20260424T075614
CREATED:20170814T060133Z
LAST-MODIFIED:20170814T060218Z
UID:804-1506798000-1506803400@kailashproject.org
SUMMARY:Restorative Yoga
DESCRIPTION:Maaf\, tidak tersedia dalam Bahasa \n
URL:http://kailashproject.org/id/event/restorative-yoga/
LOCATION:PT. Yoga Barn\, Jalan Raya Pengosekan\, Ubud - Bali\, Indonesia - 80571\, Ubud\, Bali\, 80571\, Indonesia
CATEGORIES:Daily Classes Schedule
END:VEVENT
END:VCALENDAR