BEGIN:VCALENDAR
VERSION:2.0
PRODID:-//Kailash Project - Live a Balanced Life - ECPv4.6.10.1//NONSGML v1.0//EN
CALSCALE:GREGORIAN
METHOD:PUBLISH
X-WR-CALNAME:Kailash Project - Live a Balanced Life
X-ORIGINAL-URL:http://kailashproject.org
X-WR-CALDESC:Events for Kailash Project - Live a Balanced Life
BEGIN:VEVENT
DTSTART;TZID=Asia/Makassar:20170902T110000
DTEND;TZID=Asia/Makassar:20170902T123000
DTSTAMP:20260424T090725
CREATED:20170814T055741Z
LAST-MODIFIED:20170814T055741Z
UID:803-1504350000-1504355400@kailashproject.org
SUMMARY:Yin Yoga
DESCRIPTION:Maaf\, tidak tersedia dalam Bahasa \n
URL:http://kailashproject.org/id/event/yin-yoga-64/
LOCATION:PT. Yoga Barn\, Jalan Raya Pengosekan\, Ubud - Bali\, Indonesia - 80571\, Ubud\, Bali\, 80571\, Indonesia
CATEGORIES:Daily Classes Schedule
END:VEVENT
BEGIN:VEVENT
DTSTART;TZID=Asia/Makassar:20170902T190000
DTEND;TZID=Asia/Makassar:20170902T203000
DTSTAMP:20260424T090725
CREATED:20170814T060504Z
LAST-MODIFIED:20170814T060504Z
UID:807-1504378800-1504384200@kailashproject.org
SUMMARY:Restorative Yoga
DESCRIPTION:Maaf\, tidak tersedia dalam Bahasa \n
URL:http://kailashproject.org/id/event/restorative-yoga-5/
LOCATION:PT. Yoga Barn\, Jalan Raya Pengosekan\, Ubud - Bali\, Indonesia - 80571\, Ubud\, Bali\, 80571\, Indonesia
CATEGORIES:Daily Classes Schedule
END:VEVENT
END:VCALENDAR