BEGIN:VCALENDAR
VERSION:2.0
PRODID:-//Kailash Project - Live a Balanced Life - ECPv4.6.10.1//NONSGML v1.0//EN
CALSCALE:GREGORIAN
METHOD:PUBLISH
X-WR-CALNAME:Kailash Project - Live a Balanced Life
X-ORIGINAL-URL:http://kailashproject.org
X-WR-CALDESC:Events for Kailash Project - Live a Balanced Life
BEGIN:VEVENT
DTSTART;TZID=Asia/Makassar:20170811T070000
DTEND;TZID=Asia/Makassar:20170811T083000
DTSTAMP:20260424T121031
CREATED:20170728T101504Z
LAST-MODIFIED:20170728T101504Z
UID:722-1502434800-1502440200@kailashproject.org
SUMMARY:Morning Flow 
DESCRIPTION:Maaf\, tidak tersedia dalam Bahasa \n
URL:http://kailashproject.org/id/event/morning-flow-15/
LOCATION:PT. Yoga Barn\, Jalan Raya Pengosekan\, Ubud - Bali\, Indonesia - 80571\, Ubud\, Bali\, 80571\, Indonesia
CATEGORIES:Daily Classes Schedule
END:VEVENT
BEGIN:VEVENT
DTSTART;TZID=Asia/Makassar:20170811T113000
DTEND;TZID=Asia/Makassar:20170811T123000
DTSTAMP:20260424T121031
CREATED:20170728T101718Z
LAST-MODIFIED:20170728T101718Z
UID:725-1502451000-1502454600@kailashproject.org
SUMMARY:Gentle Yoga 
DESCRIPTION:Maaf\, tidak tersedia dalam Bahasa \n
URL:http://kailashproject.org/id/event/gentle-yoga-57/
LOCATION:PT. Yoga Barn\, Jalan Raya Pengosekan\, Ubud - Bali\, Indonesia - 80571\, Ubud\, Bali\, 80571\, Indonesia
CATEGORIES:Daily Classes Schedule
END:VEVENT
BEGIN:VEVENT
DTSTART;TZID=Asia/Makassar:20170811T140000
DTEND;TZID=Asia/Makassar:20170811T153000
DTSTAMP:20260424T121031
CREATED:20170728T102700Z
LAST-MODIFIED:20170728T102700Z
UID:731-1502460000-1502465400@kailashproject.org
SUMMARY:Introduction to Yoga 
DESCRIPTION:Maaf\, tidak tersedia dalam Bahasa \n
URL:http://kailashproject.org/id/event/introduction-to-yoga-26/
LOCATION:PT. Yoga Barn\, Jalan Raya Pengosekan\, Ubud - Bali\, Indonesia - 80571\, Ubud\, Bali\, 80571\, Indonesia
CATEGORIES:Daily Classes Schedule
END:VEVENT
END:VCALENDAR