BEGIN:VCALENDAR
VERSION:2.0
PRODID:-//Kailash Project - Live a Balanced Life - ECPv4.6.10.1//NONSGML v1.0//EN
CALSCALE:GREGORIAN
METHOD:PUBLISH
X-WR-CALNAME:Kailash Project - Live a Balanced Life
X-ORIGINAL-URL:http://kailashproject.org
X-WR-CALDESC:Events for Kailash Project - Live a Balanced Life
BEGIN:VEVENT
DTSTART;TZID=Asia/Makassar:20170810T080000
DTEND;TZID=Asia/Makassar:20170810T093000
DTSTAMP:20260424T103709
CREATED:20170728T100554Z
LAST-MODIFIED:20170728T100554Z
UID:715-1502352000-1502357400@kailashproject.org
SUMMARY:Vinyasa Slow 
DESCRIPTION:Maaf\, tidak tersedia dalam Bahasa \n
URL:http://kailashproject.org/id/event/vinyasa-slow-30/
LOCATION:Seremban\, Malaysia
CATEGORIES:Daily Classes Schedule
END:VEVENT
END:VCALENDAR