BEGIN:VCALENDAR
VERSION:2.0
PRODID:-//Kailash Project - Live a Balanced Life - ECPv4.6.10.1//NONSGML v1.0//EN
CALSCALE:GREGORIAN
METHOD:PUBLISH
X-WR-CALNAME:Kailash Project - Live a Balanced Life
X-ORIGINAL-URL:http://kailashproject.org
X-WR-CALDESC:Events for Kailash Project - Live a Balanced Life
BEGIN:VEVENT
DTSTART;TZID=Asia/Makassar:20170717T113000
DTEND;TZID=Asia/Makassar:20170717T123000
DTSTAMP:20260424T120914
CREATED:20170728T091617Z
LAST-MODIFIED:20170728T091617Z
UID:675-1500291000-1500294600@kailashproject.org
SUMMARY:Gentle Yoga 
DESCRIPTION:Maaf\, tidak tersedia dalam Bahasa \n
URL:http://kailashproject.org/id/event/gentle-yoga-45/
LOCATION:PT. Yoga Barn\, Jalan Raya Pengosekan\, Ubud - Bali\, Indonesia - 80571\, Ubud\, Bali\, 80571\, Indonesia
CATEGORIES:Daily Classes Schedule
END:VEVENT
BEGIN:VEVENT
DTSTART;TZID=Asia/Makassar:20170717T170000
DTEND;TZID=Asia/Makassar:20170717T183000
DTSTAMP:20260424T120914
CREATED:20170728T092024Z
LAST-MODIFIED:20170728T092024Z
UID:679-1500310800-1500316200@kailashproject.org
SUMMARY:Vinyasa Flow 
DESCRIPTION:Maaf\, tidak tersedia dalam Bahasa \n
URL:http://kailashproject.org/id/event/vinyasa-flow-25/
LOCATION:PT. Yoga Barn\, Jalan Raya Pengosekan\, Ubud - Bali\, Indonesia - 80571\, Ubud\, Bali\, 80571\, Indonesia
CATEGORIES:Daily Classes Schedule
END:VEVENT
END:VCALENDAR