BEGIN:VCALENDAR
VERSION:2.0
PRODID:-//Kailash Project - Live a Balanced Life - ECPv4.6.10.1//NONSGML v1.0//EN
CALSCALE:GREGORIAN
METHOD:PUBLISH
X-WR-CALNAME:Kailash Project - Live a Balanced Life
X-ORIGINAL-URL:http://kailashproject.org
X-WR-CALDESC:Events for Kailash Project - Live a Balanced Life
BEGIN:VEVENT
DTSTART;TZID=Asia/Makassar:20160125T080000
DTEND;TZID=Asia/Makassar:20160125T093000
DTSTAMP:20260425T161350
CREATED:20160124T143458Z
LAST-MODIFIED:20160124T145840Z
UID:497-1453708800-1453714200@kailashproject.org
SUMMARY:Vinyasa Slow
DESCRIPTION:Maaf\, tidak tersedia dalam Bahasa \n
URL:http://kailashproject.org/id/event/vinyasa-slow-12/
LOCATION:Seremban\, Malaysia
CATEGORIES:Daily Classes Schedule
END:VEVENT
BEGIN:VEVENT
DTSTART;TZID=Asia/Makassar:20160125T140000
DTEND;TZID=Asia/Makassar:20160125T153000
DTSTAMP:20260425T161350
CREATED:20160124T142155Z
LAST-MODIFIED:20160124T142332Z
UID:486-1453730400-1453735800@kailashproject.org
SUMMARY:Intro to Yoga
DESCRIPTION:Intro to Yoga with Eka \n
URL:http://kailashproject.org/id/event/intro-to-yoga-20/
LOCATION:Seremban\, Malaysia
CATEGORIES:Daily Classes Schedule
END:VEVENT
END:VCALENDAR