BEGIN:VCALENDAR
VERSION:2.0
PRODID:-//Kailash Project - Live a Balanced Life - ECPv4.6.10.1//NONSGML v1.0//EN
CALSCALE:GREGORIAN
METHOD:PUBLISH
X-WR-CALNAME:Kailash Project - Live a Balanced Life
X-ORIGINAL-URL:http://kailashproject.org
X-WR-CALDESC:Events for Kailash Project - Live a Balanced Life
BEGIN:VEVENT
DTSTART;TZID=Asia/Makassar:20160109T110000
DTEND;TZID=Asia/Makassar:20160109T123000
DTSTAMP:20260425T161535
CREATED:20160124T145523Z
LAST-MODIFIED:20160124T145523Z
UID:515-1452337200-1452342600@kailashproject.org
SUMMARY:Yin Yoga
DESCRIPTION:Maaf\, tidak tersedia dalam Bahasa \n
URL:http://kailashproject.org/id/event/yin-yoga-8/
LOCATION:Seremban\, Malaysia
CATEGORIES:Daily Classes Schedule
END:VEVENT
END:VCALENDAR