BEGIN:VCALENDAR
VERSION:2.0
PRODID:-//Kailash Project - Live a Balanced Life - ECPv4.6.10.1//NONSGML v1.0//EN
CALSCALE:GREGORIAN
METHOD:PUBLISH
X-WR-CALNAME:Kailash Project - Live a Balanced Life
X-ORIGINAL-URL:http://kailashproject.org
X-WR-CALDESC:Events for Kailash Project - Live a Balanced Life
BEGIN:VEVENT
DTSTART;TZID=Asia/Makassar:20160104T140000
DTEND;TZID=Asia/Makassar:20160104T153000
DTSTAMP:20260425T161228
CREATED:20160124T141751Z
LAST-MODIFIED:20160124T141751Z
UID:483-1451916000-1451921400@kailashproject.org
SUMMARY:Intro to Yoga
DESCRIPTION:Intro to Yoga with Eka \n
URL:http://kailashproject.org/id/event/intro-to-yoga-17/
LOCATION:Seremban\, Malaysia
CATEGORIES:Daily Classes Schedule
END:VEVENT
BEGIN:VEVENT
DTSTART;TZID=Asia/Makassar:20160104T190000
DTEND;TZID=Asia/Makassar:20160104T203000
DTSTAMP:20260425T161228
CREATED:20160124T142555Z
LAST-MODIFIED:20160124T142842Z
UID:490-1451934000-1451939400@kailashproject.org
SUMMARY:Vinyasa Slow
DESCRIPTION:Maaf\, tidak tersedia dalam Bahasa \n
URL:http://kailashproject.org/id/event/vinyasa-slow-5/
LOCATION:Seremban\, Malaysia
CATEGORIES:Daily Classes Schedule
END:VEVENT
END:VCALENDAR