BEGIN:VCALENDAR
VERSION:2.0
PRODID:-//Kailash Project - Live a Balanced Life - ECPv4.6.10.1//NONSGML v1.0//EN
CALSCALE:GREGORIAN
METHOD:PUBLISH
X-WR-CALNAME:Kailash Project - Live a Balanced Life
X-ORIGINAL-URL:http://kailashproject.org
X-WR-CALDESC:Events for Kailash Project - Live a Balanced Life
BEGIN:VEVENT
DTSTART;TZID=Asia/Makassar:20170913T070000
DTEND;TZID=Asia/Makassar:20170913T083000
DTSTAMP:20260424T095115
CREATED:20170911T100006Z
LAST-MODIFIED:20170911T100006Z
UID:849-1505286000-1505291400@kailashproject.org
SUMMARY:Morning Flow 
DESCRIPTION:\nMorning Flow is a gentle and flowing class that greets the morning with asana\, pranayama & meditation to ease into a blissful day. \n\n
URL:http://kailashproject.org/event/morning-flow-17/
LOCATION:PT. Yoga Barn\, Jalan Raya Pengosekan\, Ubud - Bali\, Indonesia - 80571\, Ubud\, Bali\, 80571\, Indonesia
CATEGORIES:Daily Classes Schedule
END:VEVENT
BEGIN:VEVENT
DTSTART;TZID=Asia/Makassar:20170913T100000
DTEND;TZID=Asia/Makassar:20170913T113000
DTSTAMP:20260424T095115
CREATED:20170911T100123Z
LAST-MODIFIED:20170911T100507Z
UID:850-1505296800-1505302200@kailashproject.org
SUMMARY:Vinyasa Flow
DESCRIPTION:\nVinyasa Flow Level 1 & 2 poses are carefully sequenced and continually flow together connected with the breath. Often an adventure in sweat and stamina\, Vinyasa Flow develops strength\, flexibility\, and balance for mind and body. \n\n
URL:http://kailashproject.org/event/vinyasa-flow-18/
LOCATION:PT. Yoga Barn\, Jalan Raya Pengosekan\, Ubud - Bali\, Indonesia - 80571\, Ubud\, Bali\, 80571\, Indonesia
CATEGORIES:Daily Classes Schedule
END:VEVENT
END:VCALENDAR