BEGIN:VCALENDAR
VERSION:2.0
PRODID:-//Kailash Project - Live a Balanced Life - ECPv4.6.10.1//NONSGML v1.0//EN
CALSCALE:GREGORIAN
METHOD:PUBLISH
X-WR-CALNAME:Kailash Project - Live a Balanced Life
X-ORIGINAL-URL:http://kailashproject.org
X-WR-CALDESC:Events for Kailash Project - Live a Balanced Life
BEGIN:VEVENT
DTSTART;TZID=Asia/Makassar:20160419T090000
DTEND;TZID=Asia/Makassar:20160419T103000
DTSTAMP:20260425T104852
CREATED:20160405T010045Z
LAST-MODIFIED:20160405T010045Z
UID:559-1461056400-1461061800@kailashproject.org
SUMMARY:Hatha Yoga @ Yoga Barn Detox Retreat
DESCRIPTION:\nIntroduction to Yoga is an ideal class for anyone new to Yoga with discussion on how Yoga can benefit our everyday lives\, with simple breathing techniques and basic Yoga postures. \n\n
URL:http://kailashproject.org/event/hatha-yoga-yoga-barn-detox-retreat-6/
LOCATION:Seremban\, Malaysia
CATEGORIES:Daily Classes Schedule
END:VEVENT
BEGIN:VEVENT
DTSTART;TZID=Asia/Makassar:20160419T113000
DTEND;TZID=Asia/Makassar:20160419T123000
DTSTAMP:20260425T104852
CREATED:20160405T010014Z
LAST-MODIFIED:20160405T010014Z
UID:558-1461065400-1461069000@kailashproject.org
SUMMARY:Gentle Yoga 
DESCRIPTION:Gentle Yoga is a graceful class with a calm atmosphere which empowers you to develop a safe and sustainable practice\, involving gentle and slow moving asana (postures) practice and breath work. Open for all level. \n
URL:http://kailashproject.org/event/gentle-yoga-25/
LOCATION:Seremban\, Malaysia
CATEGORIES:Daily Classes Schedule
END:VEVENT
BEGIN:VEVENT
DTSTART;TZID=Asia/Makassar:20160419T140000
DTEND;TZID=Asia/Makassar:20160419T153000
DTSTAMP:20260425T104852
CREATED:20160405T005706Z
LAST-MODIFIED:20160405T005935Z
UID:557-1461074400-1461079800@kailashproject.org
SUMMARY:Introduction to Yoga 
DESCRIPTION:\nIntroduction to Yoga is an ideal class for anyone new to Yoga with discussion on how Yoga can benefit our everyday lives\, with simple breathing techniques and basic Yoga postures. \n\n
URL:http://kailashproject.org/event/introduction-to-yoga-6/
LOCATION:Seremban\, Malaysia
CATEGORIES:Daily Classes Schedule
END:VEVENT
END:VCALENDAR