BEGIN:VCALENDAR
VERSION:2.0
PRODID:-//Kailash Project - Live a Balanced Life - ECPv4.6.10.1//NONSGML v1.0//EN
CALSCALE:GREGORIAN
METHOD:PUBLISH
X-WR-CALNAME:Kailash Project - Live a Balanced Life
X-ORIGINAL-URL:http://kailashproject.org
X-WR-CALDESC:Events for Kailash Project - Live a Balanced Life
BEGIN:VEVENT
DTSTART;TZID=Asia/Makassar:20160409T080000
DTEND;TZID=Asia/Makassar:20160409T093000
DTSTAMP:20260425T105046
CREATED:20160404T140257Z
LAST-MODIFIED:20160404T140257Z
UID:540-1460188800-1460194200@kailashproject.org
SUMMARY:Vinyasa Slow
DESCRIPTION:\nVinyasa Slow encourages the students to connect to a softer aspect of dynamic Yoga asana (postures) and take the time to explore the breath and the body as we clod though the physical practice. Open to all level. \n\n
URL:http://kailashproject.org/event/vinyasa-slow-15/
LOCATION:Seremban\, Malaysia
CATEGORIES:Daily Classes Schedule
END:VEVENT
BEGIN:VEVENT
DTSTART;TZID=Asia/Makassar:20160409T110000
DTEND;TZID=Asia/Makassar:20160409T123000
DTSTAMP:20260425T105046
CREATED:20160404T140453Z
LAST-MODIFIED:20160404T140453Z
UID:541-1460199600-1460205000@kailashproject.org
SUMMARY:Yin Yoga
DESCRIPTION:\nYin Yoga practice focuses on applying moderate stress to the connective tissues (tendons\, ligaments\, cartilage\, and fascia). By holding seated or lying postures for two to five minutes\, Yin Yoga is an effective practice to improve flexibility\, circulation in the joints and stimulates meridians (energy lines) in the body. This calming and relaxing style is a meditation practice in and of itself\, as it allows one to focus and observe various bodily sensations\, thought patterns\, and emotions while holding asanas in stillness. \n\n
URL:http://kailashproject.org/event/yin-yoga-16/
LOCATION:Seremban\, Malaysia
CATEGORIES:Daily Classes Schedule
END:VEVENT
END:VCALENDAR