BEGIN:VCALENDAR
VERSION:2.0
PRODID:-//Kailash Project - Live a Balanced Life - ECPv4.6.10.1//NONSGML v1.0//EN
CALSCALE:GREGORIAN
METHOD:PUBLISH
X-WR-CALNAME:Kailash Project - Live a Balanced Life
X-ORIGINAL-URL:http://kailashproject.org
X-WR-CALDESC:Events for Kailash Project - Live a Balanced Life
BEGIN:VEVENT
DTSTART;TZID=Asia/Makassar:20160322T080000
DTEND;TZID=Asia/Makassar:20160322T093000
DTSTAMP:20260425T120732
CREATED:20160321T063650Z
LAST-MODIFIED:20160321T063948Z
UID:518-1458633600-1458639000@kailashproject.org
SUMMARY:Hatha Yoga @ Yoga Barn Detox Retreat 
DESCRIPTION:Hatha Yoga at Yoga Barn’s Detox Retreat (Private Event) \n
URL:http://kailashproject.org/event/hatha-yoga-yoga-barn-detox-retreat/
LOCATION:Seremban\, Malaysia
CATEGORIES:Daily Classes Schedule
END:VEVENT
BEGIN:VEVENT
DTSTART;TZID=Asia/Makassar:20160322T103000
DTEND;TZID=Asia/Makassar:20160322T113000
DTSTAMP:20260425T120732
CREATED:20160321T064325Z
LAST-MODIFIED:20160321T064325Z
UID:521-1458642600-1458646200@kailashproject.org
SUMMARY:Gentle Yoga 
DESCRIPTION:Gentle Yoga is a graceful class with a calm atmosphere which empowers you to develop a safe and sustainable practice\, involving gentle and slow moving asana (postures) practice and breath work. Open for all level. \n
URL:http://kailashproject.org/event/gentle-yoga-18/
LOCATION:Seremban\, Malaysia
CATEGORIES:Daily Classes Schedule
END:VEVENT
BEGIN:VEVENT
DTSTART;TZID=Asia/Makassar:20160322T150000
DTEND;TZID=Asia/Makassar:20160322T163000
DTSTAMP:20260425T120732
CREATED:20160321T064818Z
LAST-MODIFIED:20160321T064818Z
UID:522-1458658800-1458664200@kailashproject.org
SUMMARY:Introduction to Yoga 
DESCRIPTION:Introduction to Yoga is an ideal class for anyone new to Yoga with discussion on how Yoga can benefit our everyday lives\, with simple breathing techniques and basic Yoga postures. \n
URL:http://kailashproject.org/event/introduction-to-yoga/
LOCATION:Seremban\, Malaysia
CATEGORIES:Daily Classes Schedule
END:VEVENT
END:VCALENDAR