BEGIN:VCALENDAR
VERSION:2.0
PRODID:-//Kailash Project - Live a Balanced Life - ECPv4.6.10.1//NONSGML v1.0//EN
CALSCALE:GREGORIAN
METHOD:PUBLISH
X-WR-CALNAME:Kailash Project - Live a Balanced Life
X-ORIGINAL-URL:http://kailashproject.org
X-WR-CALDESC:Events for Kailash Project - Live a Balanced Life
BEGIN:VEVENT
DTSTART;TZID=Asia/Makassar:20160111T140000
DTEND;TZID=Asia/Makassar:20160111T153000
DTSTAMP:20260425T150239
CREATED:20160124T141827Z
LAST-MODIFIED:20160124T141827Z
UID:484-1452520800-1452526200@kailashproject.org
SUMMARY:Intro to Yoga
DESCRIPTION:Intro to Yoga with Eka Kailash \n
URL:http://kailashproject.org/event/intro-to-yoga-18/
LOCATION:Seremban\, Malaysia
CATEGORIES:Daily Classes Schedule
END:VEVENT
BEGIN:VEVENT
DTSTART;TZID=Asia/Makassar:20160111T190000
DTEND;TZID=Asia/Makassar:20160111T203000
DTSTAMP:20260425T150239
CREATED:20160124T143023Z
LAST-MODIFIED:20160124T143023Z
UID:493-1452538800-1452544200@kailashproject.org
SUMMARY:Vinyasa Slow
DESCRIPTION:Vinyasa with Eka Kailash \n
URL:http://kailashproject.org/event/vinyasa-slow-8/
LOCATION:Seremban\, Malaysia
CATEGORIES:Daily Classes Schedule
END:VEVENT
END:VCALENDAR