BEGIN:VCALENDAR
VERSION:2.0
PRODID:-//Kailash Project - Live a Balanced Life - ECPv4.6.10.1//NONSGML v1.0//EN
CALSCALE:GREGORIAN
METHOD:PUBLISH
X-WR-CALNAME:Kailash Project - Live a Balanced Life
X-ORIGINAL-URL:http://kailashproject.org
X-WR-CALDESC:Events for Kailash Project - Live a Balanced Life
BEGIN:VEVENT
DTSTART;TZID=Asia/Makassar:20151124T103000
DTEND;TZID=Asia/Makassar:20151124T233000
DTSTAMP:20260425T172925
CREATED:20151102T032724Z
LAST-MODIFIED:20151102T032724Z
UID:367-1448361000-1448407800@kailashproject.org
SUMMARY:Gentle Yoga
DESCRIPTION:Gentle Yoga with Eka Kailash \n
URL:http://kailashproject.org/event/gentle-yoga-7/
LOCATION:Seremban\, Malaysia
CATEGORIES:Daily Classes Schedule
END:VEVENT
BEGIN:VEVENT
DTSTART;TZID=Asia/Makassar:20151124T140000
DTEND;TZID=Asia/Makassar:20151124T153000
DTSTAMP:20260425T172925
CREATED:20151109T045237Z
LAST-MODIFIED:20151109T045237Z
UID:458-1448373600-1448379000@kailashproject.org
SUMMARY:Intro to Yoga
DESCRIPTION:Intro to Yoga with Eka Kailash \n
URL:http://kailashproject.org/event/intro-to-yoga-7/
LOCATION:Seremban\, Malaysia
CATEGORIES:Daily Classes Schedule
END:VEVENT
END:VCALENDAR