BEGIN:VCALENDAR
VERSION:2.0
PRODID:-//Kailash Project - Live a Balanced Life - ECPv4.6.10.1//NONSGML v1.0//EN
CALSCALE:GREGORIAN
METHOD:PUBLISH
X-WR-CALNAME:Kailash Project - Live a Balanced Life
X-ORIGINAL-URL:http://kailashproject.org
X-WR-CALDESC:Events for Kailash Project - Live a Balanced Life
BEGIN:VEVENT
DTSTART;TZID=Asia/Makassar:20151119T103000
DTEND;TZID=Asia/Makassar:20151119T233000
DTSTAMP:20260425T183232
CREATED:20151102T032532Z
LAST-MODIFIED:20151102T032532Z
UID:365-1447929000-1447975800@kailashproject.org
SUMMARY:Gentle Yoga
DESCRIPTION:Gentle Yoga with Eka Kailash \n
URL:http://kailashproject.org/event/gentle-yoga-6/
LOCATION:Seremban\, Malaysia
CATEGORIES:Daily Classes Schedule
END:VEVENT
END:VCALENDAR