BEGIN:VCALENDAR
VERSION:2.0
PRODID:-//Kailash Project - Live a Balanced Life - ECPv4.6.10.1//NONSGML v1.0//EN
CALSCALE:GREGORIAN
METHOD:PUBLISH
X-WR-CALNAME:Kailash Project - Live a Balanced Life
X-ORIGINAL-URL:http://kailashproject.org
X-WR-CALDESC:Events for Kailash Project - Live a Balanced Life
BEGIN:VEVENT
DTSTART;TZID=Africa/Abidjan:20151104T190000
DTEND;TZID=Africa/Abidjan:20151104T203000
DTSTAMP:20260425T172802
CREATED:20151102T030552Z
LAST-MODIFIED:20151102T030914Z
UID:351-1446663600-1446669000@kailashproject.org
SUMMARY:Vinyasa Flow
DESCRIPTION:Vinyasa Flow with Eka Kailash \n
URL:http://kailashproject.org/event/vinyasa-flow/
LOCATION:Seremban\, Malaysia
CATEGORIES:Daily Classes Schedule
END:VEVENT
END:VCALENDAR