BEGIN:VCALENDAR
VERSION:2.0
PRODID:-//Kailash Project - Live a Balanced Life - ECPv4.6.10.1//NONSGML v1.0//EN
CALSCALE:GREGORIAN
METHOD:PUBLISH
X-WR-CALNAME:Kailash Project - Live a Balanced Life
X-ORIGINAL-URL:http://kailashproject.org
X-WR-CALDESC:Events for Kailash Project - Live a Balanced Life
BEGIN:VEVENT
DTSTART;TZID=Asia/Makassar:20180326T113000
DTEND;TZID=Asia/Makassar:20180326T123000
DTSTAMP:20260423T115514
CREATED:20180209T024616Z
LAST-MODIFIED:20180209T024616Z
UID:1105-1522063800-1522067400@kailashproject.org
SUMMARY:Gentle Yoga 
DESCRIPTION:Gentle Yoga is a graceful class with a calm atmosphere which empowers you to develop a safe and sustainable practice\, involving gentle and slow moving asana (postures) practice and breath work. Open for all level. \n
URL:http://kailashproject.org/event/gentle-yoga-100/
LOCATION:PT. Yoga Barn\, Jalan Raya Pengosekan\, Ubud - Bali\, Indonesia - 80571\, Ubud\, Bali\, 80571\, Indonesia
CATEGORIES:Daily Classes Schedule
END:VEVENT
BEGIN:VEVENT
DTSTART;TZID=Asia/Makassar:20180326T153000
DTEND;TZID=Asia/Makassar:20180326T170000
DTSTAMP:20260423T115514
CREATED:20180209T024803Z
LAST-MODIFIED:20180209T024803Z
UID:1113-1522078200-1522083600@kailashproject.org
SUMMARY:Hatha Yoga 
DESCRIPTION:Hatha Yoga is focusing on various asanas or postures\, it aims to increase vitality\, strength\, and flexibility of the body. Hatha Yoga has been proven effective in the medical world to assist in healing various illnesses\, as well as to help relieve stress. \n
URL:http://kailashproject.org/event/hatha-yoga-10/
LOCATION:PT. Yoga Barn\, Jalan Raya Pengosekan\, Ubud - Bali\, Indonesia - 80571\, Ubud\, Bali\, 80571\, Indonesia
CATEGORIES:Daily Classes Schedule
END:VEVENT
END:VCALENDAR