BEGIN:VCALENDAR
VERSION:2.0
PRODID:-//Kailash Project - Live a Balanced Life - ECPv4.6.10.1//NONSGML v1.0//EN
CALSCALE:GREGORIAN
METHOD:PUBLISH
X-WR-CALNAME:Kailash Project - Live a Balanced Life
X-ORIGINAL-URL:http://kailashproject.org
X-WR-CALDESC:Events for Kailash Project - Live a Balanced Life
BEGIN:VEVENT
DTSTART;TZID=Asia/Makassar:20180323T113000
DTEND;TZID=Asia/Makassar:20180323T123000
DTSTAMP:20260423T144643
CREATED:20180209T025619Z
LAST-MODIFIED:20180209T025619Z
UID:1139-1521804600-1521808200@kailashproject.org
SUMMARY:Gentle Yoga 
DESCRIPTION:Gentle Yoga is a graceful class with a calm atmosphere which empowers you to develop a safe and sustainable practice\, involving gentle and slow moving asana (postures) practice and breath work. Open for all level. \n
URL:http://kailashproject.org/event/gentle-yoga-105/
LOCATION:PT. Yoga Barn\, Jalan Raya Pengosekan\, Ubud - Bali\, Indonesia - 80571\, Ubud\, Bali\, 80571\, Indonesia
CATEGORIES:Daily Classes Schedule
END:VEVENT
BEGIN:VEVENT
DTSTART;TZID=Asia/Makassar:20180323T140000
DTEND;TZID=Asia/Makassar:20180323T153000
DTSTAMP:20260423T144643
CREATED:20180209T030032Z
LAST-MODIFIED:20180209T030032Z
UID:1151-1521813600-1521819000@kailashproject.org
SUMMARY:Introduction to Yoga 
DESCRIPTION:\nIntroduction to Yoga is an ideal class for anyone new to Yoga with discussion on how Yoga can benefit our everyday lives\, with simple breathing techniques and basic Yoga postures. \n\n
URL:http://kailashproject.org/event/introduction-to-yoga-51/
LOCATION:PT. Yoga Barn\, Jalan Raya Pengosekan\, Ubud - Bali\, Indonesia - 80571\, Ubud\, Bali\, 80571\, Indonesia
CATEGORIES:Daily Classes Schedule
END:VEVENT
END:VCALENDAR