BEGIN:VCALENDAR
VERSION:2.0
PRODID:-//Kailash Project - Live a Balanced Life - ECPv4.6.10.1//NONSGML v1.0//EN
CALSCALE:GREGORIAN
METHOD:PUBLISH
X-WR-CALNAME:Kailash Project - Live a Balanced Life
X-ORIGINAL-URL:http://kailashproject.org
X-WR-CALDESC:Events for Kailash Project - Live a Balanced Life
BEGIN:VEVENT
DTSTART;TZID=Asia/Makassar:20180226T113000
DTEND;TZID=Asia/Makassar:20180226T123000
DTSTAMP:20260423T132119
CREATED:20180128T085118Z
LAST-MODIFIED:20180128T085118Z
UID:1054-1519644600-1519648200@kailashproject.org
SUMMARY:Gentle Yoga 
DESCRIPTION:Gentle Yoga is a graceful class with a calm atmosphere which empowers you to develop a safe and sustainable practice\, involving gentle and slow moving asana (postures) practice and breath work. Open for all level. \n
URL:http://kailashproject.org/event/gentle-yoga-92/
LOCATION:PT. Yoga Barn\, Jalan Raya Pengosekan\, Ubud - Bali\, Indonesia - 80571\, Ubud\, Bali\, 80571\, Indonesia
CATEGORIES:Daily Classes Schedule
END:VEVENT
BEGIN:VEVENT
DTSTART;TZID=Asia/Makassar:20180226T153000
DTEND;TZID=Asia/Makassar:20180226T170000
DTSTAMP:20260423T132119
CREATED:20180128T084821Z
LAST-MODIFIED:20180128T084854Z
UID:1046-1519659000-1519664400@kailashproject.org
SUMMARY:Hatha Yoga 
DESCRIPTION:Hatha Yoga is focusing on various asanas or postures\, it aims to increase vitality\, strength\, and flexibility of the body. Hatha Yoga has been proven effective in the medical world to assist in healing various illnesses\, as well as to help relieve stress. \n
URL:http://kailashproject.org/event/hatha-yoga-6/
LOCATION:PT. Yoga Barn\, Jalan Raya Pengosekan\, Ubud - Bali\, Indonesia - 80571\, Ubud\, Bali\, 80571\, Indonesia
CATEGORIES:Daily Classes Schedule
END:VEVENT
END:VCALENDAR