BEGIN:VCALENDAR
VERSION:2.0
PRODID:-//Kailash Project - Live a Balanced Life - ECPv4.6.10.1//NONSGML v1.0//EN
CALSCALE:GREGORIAN
METHOD:PUBLISH
X-WR-CALNAME:Kailash Project - Live a Balanced Life
X-ORIGINAL-URL:http://kailashproject.org
X-WR-CALDESC:Events for Kailash Project - Live a Balanced Life
BEGIN:VEVENT
DTSTART;TZID=Asia/Makassar:20180127T080000
DTEND;TZID=Asia/Makassar:20180127T093000
DTSTAMP:20260423T162429
CREATED:20171227T065510Z
LAST-MODIFIED:20171227T065510Z
UID:1019-1517040000-1517045400@kailashproject.org
SUMMARY:Vinyasa Slow
DESCRIPTION:\nVinyasa Slow encourages the students to connect to a softer aspect of dynamic Yoga asana (postures) and take the time to explore the breath and the body as we clod though the physical practice. Open to all level. \n\n
URL:http://kailashproject.org/event/vinyasa-slow-46/
LOCATION:Seremban\, Malaysia
CATEGORIES:Daily Classes Schedule
END:VEVENT
BEGIN:VEVENT
DTSTART;TZID=Asia/Makassar:20180127T110000
DTEND;TZID=Asia/Makassar:20180127T123000
DTSTAMP:20260423T162429
CREATED:20171227T070034Z
LAST-MODIFIED:20171227T070034Z
UID:1027-1517050800-1517056200@kailashproject.org
SUMMARY:Yin Yoga
DESCRIPTION:\nYin Yoga practice focuses on applying moderate stress to the connective tissues (tendons\, ligaments\, cartilage\, and fascia). By holding seated or lying postures for two to five minutes\, Yin Yoga is an effective practice to improve flexibility\, circulation in the joints and stimulates meridians (energy lines) in the body. This calming and relaxing style is a meditation practice in and of itself\, as it allows one to focus and observe various bodily sensations\, thought patterns\, and emotions while holding asanas in stillness. \n\n
URL:http://kailashproject.org/event/yin-yoga-86/
LOCATION:PT. Yoga Barn\, Jalan Raya Pengosekan\, Ubud - Bali\, Indonesia - 80571\, Ubud\, Bali\, 80571\, Indonesia
CATEGORIES:Daily Classes Schedule
END:VEVENT
END:VCALENDAR