BEGIN:VCALENDAR
VERSION:2.0
PRODID:-//Kailash Project - Live a Balanced Life - ECPv4.6.10.1//NONSGML v1.0//EN
CALSCALE:GREGORIAN
METHOD:PUBLISH
X-WR-CALNAME:Kailash Project - Live a Balanced Life
X-ORIGINAL-URL:http://kailashproject.org
X-WR-CALDESC:Events for Kailash Project - Live a Balanced Life
BEGIN:VEVENT
DTSTART;TZID=Asia/Makassar:20180104T080000
DTEND;TZID=Asia/Makassar:20180104T093000
DTSTAMP:20260423T163150
CREATED:20171227T070856Z
LAST-MODIFIED:20171227T070856Z
UID:1035-1515052800-1515058200@kailashproject.org
SUMMARY:Vinyasa Slow
DESCRIPTION:\nVinyasa Slow encourages the students to connect to a softer aspect of dynamic Yoga asana (postures) and take the time to explore the breath and the body as we clod though the physical practice. Open to all level. \n\n
URL:http://kailashproject.org/event/vinyasa-slow-50/
LOCATION:Seremban\, Malaysia
CATEGORIES:Daily Classes Schedule
END:VEVENT
BEGIN:VEVENT
DTSTART;TZID=Asia/Makassar:20180104T140000
DTEND;TZID=Asia/Makassar:20180104T153000
DTSTAMP:20260423T163150
CREATED:20171227T070933Z
LAST-MODIFIED:20171227T070933Z
UID:1037-1515074400-1515079800@kailashproject.org
SUMMARY:Introduction to Yoga 
DESCRIPTION:\nIntroduction to Yoga is an ideal class for anyone new to Yoga with discussion on how Yoga can benefit our everyday lives\, with simple breathing techniques and basic Yoga postures. \n\n
URL:http://kailashproject.org/event/introduction-to-yoga-45/
LOCATION:PT. Yoga Barn\, Jalan Raya Pengosekan\, Ubud - Bali\, Indonesia - 80571\, Ubud\, Bali\, 80571\, Indonesia
CATEGORIES:Daily Classes Schedule
END:VEVENT
END:VCALENDAR