BEGIN:VCALENDAR
VERSION:2.0
PRODID:-//Kailash Project - Live a Balanced Life - ECPv4.6.10.1//NONSGML v1.0//EN
CALSCALE:GREGORIAN
METHOD:PUBLISH
X-WR-CALNAME:Kailash Project - Live a Balanced Life
X-ORIGINAL-URL:http://kailashproject.org
X-WR-CALDESC:Events for Kailash Project - Live a Balanced Life
BEGIN:VEVENT
DTSTART;TZID=Asia/Makassar:20170919T110000
DTEND;TZID=Asia/Makassar:20170919T123000
DTSTAMP:20260423T214222
CREATED:20170814T054338Z
LAST-MODIFIED:20170814T054338Z
UID:783-1505818800-1505824200@kailashproject.org
SUMMARY:Yin Yoga
DESCRIPTION:\nYin Yoga practice focuses on applying moderate stress to the connective tissues (tendons\, ligaments\, cartilage\, and fascia). By holding seated or lying postures for two to five minutes\, Yin Yoga is an effective practice to improve flexibility\, circulation in the joints and stimulates meridians (energy lines) in the body. This calming and relaxing style is a meditation practice in and of itself\, as it allows one to focus and observe various bodily sensations\, thought patterns\, and emotions while holding asanas in stillness. \n\n
URL:http://kailashproject.org/event/yin-yoga-57/
LOCATION:PT. Yoga Barn\, Jalan Raya Pengosekan\, Ubud - Bali\, Indonesia - 80571\, Ubud\, Bali\, 80571\, Indonesia
CATEGORIES:Daily Classes Schedule
END:VEVENT
BEGIN:VEVENT
DTSTART;TZID=Asia/Makassar:20170919T150000
DTEND;TZID=Asia/Makassar:20170919T160000
DTSTAMP:20260423T214222
CREATED:20170814T054716Z
LAST-MODIFIED:20170814T054716Z
UID:787-1505833200-1505836800@kailashproject.org
SUMMARY:Gentle Yoga 
DESCRIPTION:Gentle Yoga is a graceful class with a calm atmosphere which empowers you to develop a safe and sustainable practice\, involving gentle and slow moving asana (postures) practice and breath work. Open for all level. \n
URL:http://kailashproject.org/event/gentle-yoga-68/
LOCATION:PT. Yoga Barn\, Jalan Raya Pengosekan\, Ubud - Bali\, Indonesia - 80571\, Ubud\, Bali\, 80571\, Indonesia
CATEGORIES:Daily Classes Schedule
END:VEVENT
END:VCALENDAR