BEGIN:VCALENDAR
VERSION:2.0
PRODID:-//Kailash Project - Live a Balanced Life - ECPv4.6.10.1//NONSGML v1.0//EN
CALSCALE:GREGORIAN
METHOD:PUBLISH
X-WR-CALNAME:Kailash Project - Live a Balanced Life
X-ORIGINAL-URL:http://kailashproject.org
X-WR-CALDESC:Events for Kailash Project - Live a Balanced Life
BEGIN:VEVENT
DTSTART;TZID=Asia/Makassar:20170825T070000
DTEND;TZID=Asia/Makassar:20170825T083000
DTSTAMP:20260423T230345
CREATED:20170728T101432Z
LAST-MODIFIED:20170728T101432Z
UID:721-1503644400-1503649800@kailashproject.org
SUMMARY:Morning Flow 
DESCRIPTION:\nMorning Flow is a gentle and flowing class that greets the morning with asana\, pranayama & meditation to ease into a blissful day. \n\n
URL:http://kailashproject.org/event/morning-flow-14/
LOCATION:PT. Yoga Barn\, Jalan Raya Pengosekan\, Ubud - Bali\, Indonesia - 80571\, Ubud\, Bali\, 80571\, Indonesia
CATEGORIES:Daily Classes Schedule
END:VEVENT
BEGIN:VEVENT
DTSTART;TZID=Asia/Makassar:20170825T113000
DTEND;TZID=Asia/Makassar:20170825T123000
DTSTAMP:20260423T230345
CREATED:20170728T101649Z
LAST-MODIFIED:20170728T101649Z
UID:724-1503660600-1503664200@kailashproject.org
SUMMARY:Gentle Yoga 
DESCRIPTION:Gentle Yoga is a graceful class with a calm atmosphere which empowers you to develop a safe and sustainable practice\, involving gentle and slow moving asana (postures) practice and breath work. Open for all level. \n
URL:http://kailashproject.org/event/gentle-yoga-56/
LOCATION:PT. Yoga Barn\, Jalan Raya Pengosekan\, Ubud - Bali\, Indonesia - 80571\, Ubud\, Bali\, 80571\, Indonesia
CATEGORIES:Daily Classes Schedule
END:VEVENT
BEGIN:VEVENT
DTSTART;TZID=Asia/Makassar:20170825T140000
DTEND;TZID=Asia/Makassar:20170825T153000
DTSTAMP:20260423T230345
CREATED:20170728T102524Z
LAST-MODIFIED:20170728T102524Z
UID:730-1503669600-1503675000@kailashproject.org
SUMMARY:Introduction to Yoga 
DESCRIPTION:\nIntroduction to Yoga is an ideal class for anyone new to Yoga with discussion on how Yoga can benefit our everyday lives\, with simple breathing techniques and basic Yoga postures. \n\n
URL:http://kailashproject.org/event/introduction-to-yoga-17/
LOCATION:PT. Yoga Barn\, Jalan Raya Pengosekan\, Ubud - Bali\, Indonesia - 80571\, Ubud\, Bali\, 80571\, Indonesia
CATEGORIES:Daily Classes Schedule
END:VEVENT
END:VCALENDAR