BEGIN:VCALENDAR
VERSION:2.0
PRODID:-//Kailash Project - Live a Balanced Life - ECPv4.6.10.1//NONSGML v1.0//EN
CALSCALE:GREGORIAN
METHOD:PUBLISH
X-WR-CALNAME:Kailash Project - Live a Balanced Life
X-ORIGINAL-URL:http://kailashproject.org
X-WR-CALDESC:Events for Kailash Project - Live a Balanced Life
BEGIN:VEVENT
DTSTART;TZID=Asia/Makassar:20170804T070000
DTEND;TZID=Asia/Makassar:20170804T083000
DTSTAMP:20260424T001921
CREATED:20170728T101532Z
LAST-MODIFIED:20170728T101532Z
UID:723-1501830000-1501835400@kailashproject.org
SUMMARY:Morning Flow 
DESCRIPTION:\nMorning Flow is a gentle and flowing class that greets the morning with asana\, pranayama & meditation to ease into a blissful day. \n\n
URL:http://kailashproject.org/event/morning-flow-16/
LOCATION:PT. Yoga Barn\, Jalan Raya Pengosekan\, Ubud - Bali\, Indonesia - 80571\, Ubud\, Bali\, 80571\, Indonesia
CATEGORIES:Daily Classes Schedule
END:VEVENT
BEGIN:VEVENT
DTSTART;TZID=Asia/Makassar:20170804T113000
DTEND;TZID=Asia/Makassar:20170804T123000
DTSTAMP:20260424T001921
CREATED:20170728T101746Z
LAST-MODIFIED:20170728T101746Z
UID:726-1501846200-1501849800@kailashproject.org
SUMMARY:Gentle Yoga 
DESCRIPTION:Gentle Yoga is a graceful class with a calm atmosphere which empowers you to develop a safe and sustainable practice\, involving gentle and slow moving asana (postures) practice and breath work. Open for all level. \n
URL:http://kailashproject.org/event/gentle-yoga-58/
LOCATION:PT. Yoga Barn\, Jalan Raya Pengosekan\, Ubud - Bali\, Indonesia - 80571\, Ubud\, Bali\, 80571\, Indonesia
CATEGORIES:Daily Classes Schedule
END:VEVENT
BEGIN:VEVENT
DTSTART;TZID=Asia/Makassar:20170804T140000
DTEND;TZID=Asia/Makassar:20170804T153000
DTSTAMP:20260424T001921
CREATED:20170728T102728Z
LAST-MODIFIED:20170728T102728Z
UID:732-1501855200-1501860600@kailashproject.org
SUMMARY:Introduction to Yoga 
DESCRIPTION:\nIntroduction to Yoga is an ideal class for anyone new to Yoga with discussion on how Yoga can benefit our everyday lives\, with simple breathing techniques and basic Yoga postures. \n\n
URL:http://kailashproject.org/event/introduction-to-yoga-27/
LOCATION:PT. Yoga Barn\, Jalan Raya Pengosekan\, Ubud - Bali\, Indonesia - 80571\, Ubud\, Bali\, 80571\, Indonesia
CATEGORIES:Daily Classes Schedule
END:VEVENT
END:VCALENDAR