BEGIN:VCALENDAR
VERSION:2.0
PRODID:-//Kailash Project - Live a Balanced Life - ECPv4.6.10.1//NONSGML v1.0//EN
CALSCALE:GREGORIAN
METHOD:PUBLISH
X-WR-CALNAME:Kailash Project - Live a Balanced Life
X-ORIGINAL-URL:http://kailashproject.org
X-WR-CALDESC:Events for Kailash Project - Live a Balanced Life
BEGIN:VEVENT
DTSTART;TZID=Asia/Makassar:20170724T113000
DTEND;TZID=Asia/Makassar:20170724T123000
DTSTAMP:20260424T001939
CREATED:20170728T091652Z
LAST-MODIFIED:20170728T091652Z
UID:676-1500895800-1500899400@kailashproject.org
SUMMARY:Gentle Yoga 
DESCRIPTION:Gentle Yoga is a graceful class with a calm atmosphere which empowers you to develop a safe and sustainable practice\, involving gentle and slow moving asana (postures) practice and breath work. Open for all level. \n
URL:http://kailashproject.org/event/gentle-yoga-46/
LOCATION:PT. Yoga Barn\, Jalan Raya Pengosekan\, Ubud - Bali\, Indonesia - 80571\, Ubud\, Bali\, 80571\, Indonesia
CATEGORIES:Daily Classes Schedule
END:VEVENT
BEGIN:VEVENT
DTSTART;TZID=Asia/Makassar:20170724T170000
DTEND;TZID=Asia/Makassar:20170724T183000
DTSTAMP:20260424T001939
CREATED:20170728T091952Z
LAST-MODIFIED:20170728T091952Z
UID:678-1500915600-1500921000@kailashproject.org
SUMMARY:Vinyasa Flow
DESCRIPTION:\nVinyasa Flow Level 1 poses are carefully sequenced and continually flow together connected with the breath. Often an adventure in sweat and stamina\, Vinyasa Flow develops strength\, flexibility\, and balance for mind and body. \n\n
URL:http://kailashproject.org/event/vinyasa-flow-24/
LOCATION:PT. Yoga Barn\, Jalan Raya Pengosekan\, Ubud - Bali\, Indonesia - 80571\, Ubud\, Bali\, 80571\, Indonesia
CATEGORIES:Daily Classes Schedule
END:VEVENT
END:VCALENDAR