BEGIN:VCALENDAR
VERSION:2.0
PRODID:-//Kailash Project - Live a Balanced Life - ECPv4.6.10.1//NONSGML v1.0//EN
CALSCALE:GREGORIAN
METHOD:PUBLISH
X-WR-CALNAME:Kailash Project - Live a Balanced Life
X-ORIGINAL-URL:http://kailashproject.org
X-WR-CALDESC:Events for Kailash Project - Live a Balanced Life
BEGIN:VEVENT
DTSTART;TZID=Asia/Makassar:20160628T070000
DTEND;TZID=Asia/Makassar:20160628T083000
DTSTAMP:20260424T171713
CREATED:20160611T010613Z
LAST-MODIFIED:20160611T010613Z
UID:642-1467097200-1467102600@kailashproject.org
SUMMARY:Morning Flow 
DESCRIPTION:\nMorning Flow is a gentle and flowing class that greets the morning with asana\, pranayama & meditation to ease into a blissful day. \n\n
URL:http://kailashproject.org/event/morning-flow-11/
LOCATION:PT. Yoga Barn\, Jalan Raya Pengosekan\, Ubud - Bali\, Indonesia - 80571\, Ubud\, Bali\, 80571\, Indonesia
CATEGORIES:Daily Classes Schedule
END:VEVENT
BEGIN:VEVENT
DTSTART;TZID=Asia/Makassar:20160628T083000
DTEND;TZID=Asia/Makassar:20160628T100000
DTSTAMP:20260424T171713
CREATED:20160611T013042Z
LAST-MODIFIED:20160611T013752Z
UID:658-1467102600-1467108000@kailashproject.org
SUMMARY:Hatha Yoga @ Yoga Barn Detox Retreat
DESCRIPTION:\nIntroduction to Yoga is an ideal class for anyone new to Yoga with discussion on how Yoga can benefit our everyday lives\, with simple breathing techniques and basic Yoga postures. \n\n
URL:http://kailashproject.org/event/hatha-yoga-yoga-barn-detox-retreat-12/
LOCATION:PT. Yoga Barn\, Jalan Raya Pengosekan\, Ubud - Bali\, Indonesia - 80571\, Ubud\, Bali\, 80571\, Indonesia
CATEGORIES:Private Session
END:VEVENT
BEGIN:VEVENT
DTSTART;TZID=Asia/Makassar:20160628T140000
DTEND;TZID=Asia/Makassar:20160628T153000
DTSTAMP:20260424T171713
CREATED:20160611T010131Z
LAST-MODIFIED:20160611T010131Z
UID:637-1467122400-1467127800@kailashproject.org
SUMMARY:Introduction to Yoga 
DESCRIPTION:\nIntroduction to Yoga is an ideal class for anyone new to Yoga with discussion on how Yoga can benefit our everyday lives\, with simple breathing techniques and basic Yoga postures. \n\n
URL:http://kailashproject.org/event/introduction-to-yoga-25/
LOCATION:PT. Yoga Barn\, Jalan Raya Pengosekan\, Ubud - Bali\, Indonesia - 80571\, Ubud\, Bali\, 80571\, Indonesia
CATEGORIES:Daily Classes Schedule
END:VEVENT
END:VCALENDAR