BEGIN:VCALENDAR
VERSION:2.0
PRODID:-//Kailash Project - Live a Balanced Life - ECPv4.6.10.1//NONSGML v1.0//EN
CALSCALE:GREGORIAN
METHOD:PUBLISH
X-WR-CALNAME:Kailash Project - Live a Balanced Life
X-ORIGINAL-URL:http://kailashproject.org
X-WR-CALDESC:Events for Kailash Project - Live a Balanced Life
BEGIN:VEVENT
DTSTART;TZID=Asia/Makassar:20160620T080000
DTEND;TZID=Asia/Makassar:20160620T093000
DTSTAMP:20260424T190249
CREATED:20160611T013502Z
LAST-MODIFIED:20160611T013502Z
UID:662-1466409600-1466415000@kailashproject.org
SUMMARY:Vinyasa Slow
DESCRIPTION:\nVinyasa Slow encourages the students to connect to a softer aspect of dynamic Yoga asana (postures) and take the time to explore the breath and the body as we clod though the physical practice. Open to all level. \n\n
URL:http://kailashproject.org/event/vinyasa-slow-20/
LOCATION:Seremban\, Malaysia
CATEGORIES:Daily Classes Schedule
END:VEVENT
BEGIN:VEVENT
DTSTART;TZID=Asia/Makassar:20160620T113000
DTEND;TZID=Asia/Makassar:20160620T123000
DTSTAMP:20260424T190249
CREATED:20160520T130536Z
LAST-MODIFIED:20160520T130536Z
UID:621-1466422200-1466425800@kailashproject.org
SUMMARY:Gentle Yoga 
DESCRIPTION:Gentle Yoga is a graceful class with a calm atmosphere which empowers you to develop a safe and sustainable practice\, involving gentle and slow moving asana (postures) practice and breath work. Open for all level. \n
URL:http://kailashproject.org/event/gentle-yoga-40/
LOCATION:PT. Yoga Barn\, Jalan Raya Pengosekan\, Ubud - Bali\, Indonesia - 80571\, Ubud\, Bali\, 80571\, Indonesia
CATEGORIES:Daily Classes Schedule
END:VEVENT
BEGIN:VEVENT
DTSTART;TZID=Asia/Makassar:20160620T140000
DTEND;TZID=Asia/Makassar:20160620T153000
DTSTAMP:20260424T190249
CREATED:20160611T010002Z
LAST-MODIFIED:20160611T010002Z
UID:633-1466431200-1466436600@kailashproject.org
SUMMARY:Introduction to Yoga 
DESCRIPTION:\nIntroduction to Yoga is an ideal class for anyone new to Yoga with discussion on how Yoga can benefit our everyday lives\, with simple breathing techniques and basic Yoga postures. \n\n
URL:http://kailashproject.org/event/introduction-to-yoga-22/
LOCATION:PT. Yoga Barn\, Jalan Raya Pengosekan\, Ubud - Bali\, Indonesia - 80571\, Ubud\, Bali\, 80571\, Indonesia
CATEGORIES:Daily Classes Schedule
END:VEVENT
END:VCALENDAR