BEGIN:VCALENDAR
VERSION:2.0
PRODID:-//Kailash Project - Live a Balanced Life - ECPv4.6.10.1//NONSGML v1.0//EN
CALSCALE:GREGORIAN
METHOD:PUBLISH
X-WR-CALNAME:Kailash Project - Live a Balanced Life
X-ORIGINAL-URL:http://kailashproject.org
X-WR-CALDESC:Events for Kailash Project - Live a Balanced Life
BEGIN:VEVENT
DTSTART;TZID=Asia/Makassar:20160615T113000
DTEND;TZID=Asia/Makassar:20160615T123000
DTSTAMP:20260424T190416
CREATED:20160520T130253Z
LAST-MODIFIED:20160520T130253Z
UID:620-1465990200-1465993800@kailashproject.org
SUMMARY:Gentle Yoga 
DESCRIPTION:Gentle Yoga is a graceful class with a calm atmosphere which empowers you to develop a safe and sustainable practice\, involving gentle and slow moving asana (postures) practice and breath work. Open for all level. \n
URL:http://kailashproject.org/event/gentle-yoga-39/
LOCATION:PT. Yoga Barn\, Jalan Raya Pengosekan\, Ubud - Bali\, Indonesia - 80571\, Ubud\, Bali\, 80571\, Indonesia
CATEGORIES:Daily Classes Schedule
END:VEVENT
BEGIN:VEVENT
DTSTART;TZID=Asia/Makassar:20160615T190000
DTEND;TZID=Asia/Makassar:20160615T200000
DTSTAMP:20260424T190416
CREATED:20160611T011508Z
LAST-MODIFIED:20160611T011520Z
UID:652-1466017200-1466020800@kailashproject.org
SUMMARY:Vinyasa Flow
DESCRIPTION:\nVinyasa Slow encourages the students to connect to a softer aspectVinyasa fl of dynamic Yoga asana (postures) and take the time to explore the breath and the body as we clod though the physical. Open to all level.\nb \n\n
URL:http://kailashproject.org/event/vinyasa-flow-16/
LOCATION:PT. Yoga Barn\, Jalan Raya Pengosekan\, Ubud - Bali\, Indonesia - 80571\, Ubud\, Bali\, 80571\, Indonesia
CATEGORIES:Daily Classes Schedule
END:VEVENT
END:VCALENDAR