BEGIN:VCALENDAR
VERSION:2.0
PRODID:-//Kailash Project - Live a Balanced Life - ECPv4.6.10.1//NONSGML v1.0//EN
CALSCALE:GREGORIAN
METHOD:PUBLISH
X-WR-CALNAME:Kailash Project - Live a Balanced Life
X-ORIGINAL-URL:http://kailashproject.org
X-WR-CALDESC:Events for Kailash Project - Live a Balanced Life
BEGIN:VEVENT
DTSTART;TZID=Asia/Makassar:20160530T140000
DTEND;TZID=Asia/Makassar:20160530T153000
DTSTAMP:20260424T191052
CREATED:20160505T024558Z
LAST-MODIFIED:20160505T024558Z
UID:596-1464616800-1464622200@kailashproject.org
SUMMARY:Introduction to Yoga 
DESCRIPTION:\nIntroduction to Yoga is an ideal class for anyone new to Yoga with discussion on how Yoga can benefit our everyday lives\, with simple breathing techniques and basic Yoga postures. \n\n
URL:http://kailashproject.org/event/introduction-to-yoga-15/
LOCATION:PT. Yoga Barn\, Jalan Raya Pengosekan\, Ubud - Bali\, Indonesia - 80571\, Ubud\, Bali\, 80571\, Indonesia
CATEGORIES:Daily Classes Schedule
END:VEVENT
BEGIN:VEVENT
DTSTART;TZID=Asia/Makassar:20160530T170000
DTEND;TZID=Asia/Makassar:20160530T183000
DTSTAMP:20260424T191052
CREATED:20160511T020333Z
LAST-MODIFIED:20160511T020333Z
UID:613-1464627600-1464633000@kailashproject.org
SUMMARY:Yin Yoga
DESCRIPTION:\nYin Yoga practice focuses on applying moderate stress to the connective tissues (tendons\, ligaments\, cartilage\, and fascia). By holding seated or lying postures for two to five minutes\, Yin Yoga is an effective practice to improve flexibility\, circulation in the joints and stimulates meridians (energy lines) in the body. This calming and relaxing style is a meditation practice in and of itself\, as it allows one to focus and observe various bodily sensations\, thought patterns\, and emotions while holding asanas in stillness. \n\n
URL:http://kailashproject.org/event/yin-yoga-31/
LOCATION:PT. Yoga Barn\, Jalan Raya Pengosekan\, Ubud - Bali\, Indonesia - 80571\, Ubud\, Bali\, 80571\, Indonesia
CATEGORIES:Daily Classes Schedule
END:VEVENT
END:VCALENDAR