BEGIN:VCALENDAR
VERSION:2.0
PRODID:-//Kailash Project - Live a Balanced Life - ECPv4.6.10.1//NONSGML v1.0//EN
CALSCALE:GREGORIAN
METHOD:PUBLISH
X-WR-CALNAME:Kailash Project - Live a Balanced Life
X-ORIGINAL-URL:http://kailashproject.org
X-WR-CALDESC:Events for Kailash Project - Live a Balanced Life
BEGIN:VEVENT
DTSTART;VALUE=DATE:20160105
DTEND;VALUE=DATE:20160106
DTSTAMP:20260425T025346
CREATED:20151106T083139Z
LAST-MODIFIED:20151110T005408Z
UID:413-1451952000-1452038399@kailashproject.org
SUMMARY:Kailash Clinic Official Opening
DESCRIPTION:Kailash Clinic Grand Opening \n
URL:http://kailashproject.org/event/kailash-clinic-official-opening/
LOCATION:Br Kalah\, Ubud\, 80751\, Indonesia
CATEGORIES:Special Events
ORGANIZER;CN="Kailash%20Project":MAILTO:erwin@aksaracreative.com
END:VEVENT
BEGIN:VEVENT
DTSTART;TZID=Asia/Makassar:20160105T103000
DTEND;TZID=Asia/Makassar:20160105T233000
DTSTAMP:20260425T025346
CREATED:20160124T143747Z
LAST-MODIFIED:20160124T143747Z
UID:499-1451989800-1452036600@kailashproject.org
SUMMARY:Gentle Yoga
DESCRIPTION:Gentle Yoga with Eka Kailash \n
URL:http://kailashproject.org/event/gentle-yoga-9/
LOCATION:Seremban\, Malaysia
CATEGORIES:Daily Classes Schedule
END:VEVENT
BEGIN:VEVENT
DTSTART;TZID=Asia/Makassar:20160105T140000
DTEND;TZID=Asia/Makassar:20160105T153000
DTSTAMP:20260425T025346
CREATED:20160124T141659Z
LAST-MODIFIED:20160124T141659Z
UID:482-1452002400-1452007800@kailashproject.org
SUMMARY:Intro to Yoga
DESCRIPTION:Intro to Yoga with Eka Kailash \n
URL:http://kailashproject.org/event/intro-to-yoga-16/
LOCATION:Seremban\, Malaysia
CATEGORIES:Daily Classes Schedule
END:VEVENT
END:VCALENDAR